Workbook

Sheet 월간회의록
A1: 월간 회의록 | I1: 완료
I2: 미결
B4: No. | C4: 논의 사항 | D4: 해결 방법 | E4: 담당자 | F4: 상세 내용
A5: 2020년
A6: 6월 | B6: 1 | C6: NDE Room | D6: 09/01부터 사용 가능 | E6: 안경희 | F6: 완료
B7: 2 | C7: 위험성 평가 | D7: 서류 전달 완료, 사진 전달 예정 감사 대기중 (안전모 구매 진행 중) | E7: 안경희 | F7: 완료 (이수증 접수 완료)
B8: 3 | C8: 소방 훈련 | D8: HOLD (코로나 19로 인함) | E8: 안경희
A9: 7월 | B9: 1 | C9: 코로나 19 예방 메일 재공지 | E9: 하주현 | F9: 완료
B10: 2 | C10: 50t 크레인 주행 시 흔들림 및 소음 발생 | D10: Motor A/S 예정 | E10: 김권호 | F10: 완료
B11: 3 | C11: 50t 크레인 주행 전, 작업자의 호루라기 미소지 | D11: 주행 전, 호루라기 소리가 발생하도록 사이렌 장착
D12: 주행 전, 크레인 주변의 물체 유무 판단하는 센서 장착
B13: 4 | C13: 공장 출입구 앞 표지판 파손으로 대형화물차 간의 사고 발생 빈번. | D13: 기존 형상물 제거 후 센서 (알람) 장착 | E13: 안희종 | F13: 완료 (센서 미적용)
B14: 5 | C14: 2 분기 인터넷 안전 교육 미수료자 | D14: 수료 재촉 및 재공지 | E14: 하주현 | F14: 완료
A15: 8월 | B15: 1 | C15: 코로나 관련 메일 공유 | E15: 하주현 | F15: 완료
B16: 2 | C16: 안전화 & 안전모 착용 (작업복 단추, 자크 단속) 메일 공지 | E16: 하주현 | F16: 완료
C17: 50T 크레인 작업 반경 내에서도 작업복 착용 | F17: 완료
B18: 3 | C18: 성희롱 예방 교육 미디어 자료 & 확인증 (생산팀) | D18: 9월 7일 (오전 7시) 교육 예정 / 9월 4일까지 자료 준비 | E18: 하주현 | F18: 완료
A19: 9월 | B19: 1 | C19: 외부 교육 내역 (온라인/오프라인) | D19: 교육 일정 및 장소 파악 및 보고 | E19: 하주현 | F19: 수강 취소
B20: 2 | C20: 9월 중 발생한 소방 점검 관련 지적 사항 | D20: 개선 방안 수립 및 해결 (Target Date : 10월 17일 내) | E20: 박창원 | F20: 제출 완료
B21: 3 | C21: 안전모 구매 | D21: 진행 중 | E21: 안경희 | F21: 구매완료 / 2020.12.24 입고 예정
B22: 4 | C22: 명절 중 코로나19 대책 방안 (질병관리본부) 공유 | D22: 메일 (하주현) 및 문자 (송다영) 공유 | E22: 하주현 | F22: 완료
A23: 10 월 | B23: 1 | C23: 사업장 사고위험정보 조사표 | D23: 작성 후 오은별 대리 전달 | E23: 안경희 | F23: 완료
B24: 2 | C24: 안전 교육 수료 확인 | D24: 사무동 작업자 교육 수료 확인 (현장 작업자 교육 이행 완료) | E24: 하주현 | F24: 20/12/24 기준, 미응시자 10명 (성희롱 예방교육 2명, 산업안전보건교육 : 8명)
A25: 11월 | B25: 1 | C25: Skid 하부 작업용 Support 제작 | D25: 자재 준비 : 12월 4일 입고 예정, 작업 완료 : 12월 8일 완료 예정 | E25: 안희종 | F25: 작업 완료 / 지게차 앞 위치됨.
B26: 2 | C26: 고소작업 시 안전 고리 착용 필수 | D26: Daily Check 담당자 포함 | E26: 안희종 | F26: ENG.TEAM 메일 공유 / 하주현
B27: 3 | C27: 동절기 전열기구 관리 미흡하여 담당자 지정 필요 예) 퇴근 시 전원을 끄지 않은 경우가 있음. | D27: 소방실 : 박창원 사무동 전열기 : 하주현 ICK : 목정윤 공장동 사무실 : 신상균 현장 : 임영규, 김두수 | E27: - | F27: 동절기 전열기 관리 철저 기타 개인용 전열기구 가급적 사용하지 말 것 전열기 작동 기준 배포 : 2월 1일 이내
B28: 4 | C28: 코로나 급증에 따른 정부의 2단계 수칙 확인 및 공유 | D28: 메일 (하주현) 및 문자 (송다영) 공유 | E28: 하주현 | F28: Target Date : 11월 27일
B29: 5 | C29: 소화기 종류 단일화 → 사용 용도 확인 필요 | D29: 소화기 용도 확인 및 구매 필요 | E29: 하주현 | F29: 교육 완료 (21/02/02)
B30: 6 | C30: 동절기 소방 배관 동파 예방 | D30: 금일 조치 예정 | E30: 김권호 | F30: Target Date : 11월 27일
B31: 7 | C31: 퇴근 시 가스 배관 단속 (잠금) 미흡 | D31: 잠금 확인 및 사내 가스 배관 Leak Test 시행 (PSV 포함) | E31: 안경희 | F31: 지속적으로 관리 필요
A32: 12월 | B32: 1 | C32: PP5-PK5701 Beam Lifting 추락 건 발생 (중량물 도장 훼손 방지를 위해 로프 사용으로 발생) | D32: Beam Clamp은 도장 훼손 가능성이 있으므로, 와이어 로프 구매 후 사용 | E32: 생산팀 | F32: 구매 완료
B33: 2 | C33: PP5 냉동기 분해 시 Base 손상 (Lifting Lug 위치와 Base 무게중심 불일치) | D33: 1) H Type Spread Bar 사용 2) 중량물 무게 중심에 대해 설계측 재검증 필요 (정영철 수석 - H type Spread Bar 설계 / 발주 요청) | E33: 생산팀 정영철 | F33: 완료
B34: 3 | C34: Structurer Lifting 작업 시 바닥면 미끌림으로 인해 중량물 손상 발생 가능성 있음 | D34: 구체적인 개선 방안 계획 수립 필요 (1월 생산팀 소통 회의 시 논의) | E34: 생산팀 | F34: 4월 생산팀 소통회의 시 (4월 5일) 논의 예정 교육 진행 완료 / 협의 완료
B35: 4 | C35: 고소 작업 시 안전 벨트 미착용이 다분함 | D35: 1) 안전 지적 관리 감독(안경희) (다만, Handle 설치 시에는 벨트 착용하지 않아도 됨.) 2) 생산팀, Daily Check 담당자 (Hand Rail 작업 전 착용 , 1월달에서 안전 관련 규정 계획 수립) 3) 작업 순서 변경 (Base 입고 후 Hand Rail 먼저 설치) 4) 고소 작업 걸이 (Beam Clamp 등) 은 1월달 추후 논의 5) 고소 작업 안전성 관련 위험성 평가 항목 추가 | E35: 안경희 | F35: 3월 내 위험성 평가 항목 추가 및 진행 * 고소 작업 건 * 그라인더 작업 건
B36: 5 | C36: 안전모 항시 착용 | E36: 생산팀 | F36: 진행 중
A37: 2021년
A38: 1월 | B38: 1 | C38: 강풍주의보 대비 | D38: 퇴근 전 크레인 고정 | E38: 생산팀
B39: 2 | C39: 그라인더 작업 유의사항 | D39: 기준 사항 (바이스 이용) 설립 및 교육 시행 위험성 평가 항목 추가 | E39: 생산팀 | F39: 교육 완료 / 3월달에 위험성 평가 항목 추가
A40: 2월 | B40: 1 | C40: 외주업체 작업 전 안전교육 실시 | E40: 안경희 | F40: 진행 중
B41: =B40+1 -> 2 | C41: 콘센트 보호구 | D41: 외기에 노출되어 있어 수분 접촉 등 위험성 존재 | E41: 안경희 | F41: 2구 콘센트 사용 금지 / 콘센트 보호구 구매 예정 * 구매 사이트 : http://www.myoungjiele.co.kr/sub-ms.php?pr_idx=1200&category=001012 21/10/29 : 추후 구매
B42: =B41+1 -> 3 | C42: 고소 작업차 구입 (작업 높이 6m) | E42: 김권호
A43: 3월 | B43: 1 | C43: 산업재해 발생에 대한 규정안 미비 | D43: 산재처리 Process 공유 | E43: 하주현 | F43: 완료 (21/03/24)
B44: =B43+1 -> 2 | C44: 기 사용중인 사다리의 안전성 부족 | D44: 기존 사다리 폐기 및 안전 사다리 구매 | E44: 박창원 | F44: 구매 사양 승인 후 (안경희 공장장) 발주 진행 예정 / 기존 사다리 폐기완료
B45: 3 | C45: 위험성 및 유독성 잉여 자재 처분 필요 (알코올 : 200Liter (Drum) 2 EA, 20 Liteer (말통) 5개 및 페인트 etc) | D45: 구매업체 회수 방법 문의 및 폐기 | E45: 김권호 | F45: 폐기처리 완료
B46: 4 | C46: 코로나 예방 준수 | D46: 외부인용 일반 마스크 수량 파악 & 구매 (하주현) 사무동 손소독제 관리 (하주현) 체온 측정 철저 (팀별 담당자) 상시 마스크 착용 & 환기 (팀별 담당자) | E46: - | F46: 04/30 (금) 확인사항 : 일반 마스크 10묶음 x 26 EA 05/27 (목) 확인사항 : 일반 마스크 10묶음 x 25 EA 06/22 (화) 확인사항 : 일반 마스크 10묶음 x 25 EA 07/30 (금) 확인사항 : 일반 마스크 10묶음 x 25 EA 09/29 (수) 확인사항 : 일반 마스크 10묶음 x 22 EA 10/29 (금) 확인사항 : 일반 마스크 10묶음 x 22 EA 11/26 (금) 확인사항 : 일반 마스크 10묶음 x 22 EA 12/27 (월) 확인사항 : 일반 마스크 10묶음 x 22 EA
A47: 4월 | B47: 1 | C47: 소화기 점검 담당자 지정 | D47: 5월 말까지 송보민 대리, 이후 신규입사자 | E47: 노종수 | F47: 05/27 (목) 확인사항 : 6월 이후 품질팀 / 노종수 대리 Follow up
B48: 2 | C48: 2020년도 건강검진 미실시자 확인 (~2021.06.30) | E48: 하주현 | F48: 완료
B49: 3 | C49: 4월 14일 소방점검 | D49: 소방관련 점검사항 확인 | E49: 박창원 | F49: 완료
B50: 4 | C50: 기 사용중인 사다리의 안전성 부족 | D50: 검토 중이며 추후 확인후 구매 요청 | E50: 안경희 | F50: 05/27 (목) 확인사항 : 기존 사다리 파기 완료 및 안전 사다리 검토 중 자체 제작 (1차 예상일 : 6월 말) 07/30 (금) : 재확인 후 구매 (규정에 맞는 제품 확인 중) 21/10/29 : 구매 완료, 사용중
B51: 5 | C51: 소화기 목적에 맞게 위치선정 및 소화기 위치 표지판 확인 | D51: 5월 말까지 점검 | E51: 송보민 | F51: 완료
B52: 6 | C52: 공장 뒷편 가설물 감지기 센서 확인 | D52: 위치 선정하여 재설치 | E52: 김권호 | F52: 완료
B53: 7 | C53: 지게차 관리 | D53: 5월 7일 까지 오일 교환 및 점검 완료예정 | E53: 박창원 | F53: 완료
A54: 5월 | B54: 1 | C54: 3 & 5톤 지게차 자격증 미소지자 운전 금지 단속 관련 관리자 지정 (1톤 트럭-김연수 대리 & 지게차 관리-박창원 사원) | D54: 자격증 소지자 List 배포 (박창원 사원) | E54: 안경희 | F54: 완료
B55: 2 | C55: 2분기 산업 안전 교육 | D55: 교육 기간 : 5월 10일 ~ 6월 30일 생산팀 안전 교육 대상자 확인 | E55: 하주현 | F55: 완료
B56: 3 | C56: 공장 내 이어폰 & 헤드셋 착용 금지 | D56: 메일 공지 (통화 용도 외 사용 금지) | E56: 하주현 | F56: 완료
B57: 4 | C57: 소화기 배치도 기반으로 각 소화기 마다 점검 시 사인할 것 | E57: 노종수 | F57: 완료
A58: 6월 | B58: 1 | C58: 안전회의 참여인원 재공지 | E58: 하주현 | F58: 완료
B59: =B58+1 -> 2 | C59: 지게차 자격증 취득 | D59: 생산팀 & 품질팀 & 구매물류팀 | E59: - | F59: 12월 이내 21/10/29 : 진행중
B60: =B59+1 -> 3 | C60: 중대재해법 시행 관련 금년 시행 업무 | D60: 1. 신입사원 교육 : 비사무직 채용 시 8시간 (사무직 대상 아님) 2. 안전교육 사무직 : 산업안전교육 인터넷 교육 수료 / 분기별 3시간 생산직 : TK 현장 교육 / 분기별 6시간 (매월 2시간 이상 수료 중) 애프터마켓팅팀 : 현장 교육 시 안전 교육 일지 작성 필수 / 분기별 6 시간 3. 일용직, 외주업체 대상 안전 교육 : 채용 시 8시간 4. 교육 진행자 : 오규일 대표, 안경희 공장장, 하주현 연구원 5. 안전 조직도 개편 : 안전책임자 변경 예정 (금년도 이내 완료 예정) | F60: 중대재해법 규정 배포
B61: =B60+1 -> 4 | C61: 위험성 평가 개선 대책 수립 | D61: 서류 인쇄 & 보관 | E61: 안경희 | F61: 상시
B62: =B61+1 -> 5 | C62: 2분기 산업안전교육 & 건강검진 미이수자 Follow-up | E62: 하주현 | F62: 06/30 마감
A63: 7월 | B63: 1 | C63: 하절기 전력 사용량 | D63: 전력 용량 확인 | E63: 생산팀 | F63: 수시 확인 21/10/29 : 완료
B64: =B63+1 -> 2 | C64: 5톤 지게차 유압 확인 필요 (작동 시 소음 발생) | E64: 박창원 | F64: 지게차 정기 점검 시, 확인 예정 / 추워지기 전 11월달 점검 예정
B65: =B64+1 -> 3 | C65: 하절기 현장 휴식시간 변경 | E65: 생산팀 | F65: 기존 "오전 10시 / 오후 3시"에서 "오전 9시 반 / 오후 2시 반"으로 변경
A66: 8월 | B66: 1 | C66: 코로나 발생에 따른 대응 및 대책 | D66: A.확진자 발생에 따른 추후 대응 1) 방역 및 역학조사 보고완료 2) 자체 확인된 밀접 접촉자 2주 자가 격리 및 접촉자 일부 자가 격리 실시 완료 3) 전직원 PCR검사 - 결과 모두 음성 B. 이후 대책 1) 자가 격리자 (2주)는 매일 오전 9시 기존 단톡방에 체온/이상 상황 보고할 것. 2) 그외 접촉자는 8/30일(월) 오전에 PCR검사 실시 및 음성 결과 시, 차주 화요일부터 출근할 것. 3) 생산팀은 금주 지방 출장/이동 금지 및 숙소에서 대기하며, 다음주 목요일 전원 PCR검사 시행 예정 4) 품질팀/Eng. team/지원팀/AM Team 모두는 다음 주 중 1회 PCR검사 추가 실시 (PCR검사는 점심 시간을 이용하고, 점심시간 외 30분의 추가 시간을 허용 한다.) 5) 자가격리자 외 재택 근무에 대해서도 각 팀이 구체적이고, 효율적으로 운영하도록 하고, 재택근무시 09:00 업무 개시보고, 18:00 업무 마무리 보고가 이루어 지도록 한다 6) 이번 사태를 교훈으로, - 전직원이 건강에 이상 징후가 있으면, 즉시 보고하고 적절한 대응을 하여 회사 전체에 영향을 미치는 일이 없도록 해야 합니다. - 질병본부에서 발표하는 개인별 방역 준수 사항을 반드시 이행하도록 하며 개인이 좀 더 철저히 관리하도록 지속적으로 공유해주세요. | E66: TK
A67: 9월 | B67: 1 | C67: 안전관리조직도 | D67: 2022년 안전관리조직 개편 | E67: 안경희 | F67: 10월 말 예정
B68: 2 | C68: 건강검진 | D68: 2021년 건강검진 대상자 결과 확인보고 | E68: 하주현 | F68: 12월 말까지 지속적으로 Follow-up (특이사항 : 김권호 부사장 - 22년으로 연기하여 대상자에서 제외됨) 대표님 - 12월 23일 예정
B69: 3 | C69: 중대재해법 관련 교육 | D69: 화성상공회의소 | E69: 김권호 | F69: 11월 교육 예정 (교육 대상자 3명) 12월 30일까지 중대재해법 해당 사항 메일 공유 예정 (안경희 공장장)
B70: 4 | C70: 소방센서 | D70: 지난 9월 발생한 소방센서 오작동 -분진에 강한 센서 확인요망 | E70: 박창원 | F70: 10/29 : Training senter 쪽 소방 센서 감지기 (5개) 오류 확인 11월 첫째주 중 교체 예정
A71: 10월 | B71: 1 | C71: 소방 관련 | D71: 소방 센서 위치 도면 작성 & 비치 | E71: 박창원 | F71: 12월 30일까지 완료
B72: 2 | C72: 안전관리자 교육 | D72: 교육 종류 및 일자 파악 | E72: 하주현 | F72: 내년 상반기 교육 수료 완료 예정 관련 교육 일정은 메일 공지 예정
B73: 3 | C73: 동절기 전열기구 관리 미흡하여 담당자 지정 필요 예) 퇴근 시 전원을 끄지 않은 경우가 있음. | D73: 소방실 : 박창원 사무동 전열기 : 하주현 ICK : 목정윤 공장동 사무실 : 신상균 현장 : 임영규, 김두수 | E73: 하주현 | F73: 동절기 전열기 관리 철저 기타 개인용 전열기구 가급적 사용하지 말 것 메일 공지 예정
A74: 11월 | B74: 1 | C74: 사무동 창고 (계단밑) 전열기 관리 필요 | D74: 사내 전열기 외 전기 기구 모두 포함 | E74: 하주현 | F74: 메일 공지 예정
B75: 2 | C75: 수도관 계량기 동파 방지 | E75: 안경희
B76: 3 | C76: 21년도 건강검진 & 산업안전보건교육 확인 | E76: 하주현 | F76: 12월 31일까지 완료
B77: 4 | C77: 월간 안전회의록 사인본 (Hard copy) | E77: 하주현 | F77: 21년도 11월 안전회의록부터 시행
B78: 5 | C78: 사내 안전 주의 사항 확인 및 지적 필요 | E78: 안전담당인원
B79: 6 | C79: 기압테스트용 안전펜스 설치 확인 | E79: 정명훈
A80: 12월 | B80: 1 | C80: 안전 관리 규정 | E80: 안경희 | F80: 22년도 1월 3일부터 공유
B81: 2 | C81: 소화기 관리 | D81: 소방서 확인 결과, 통합 Sheet로 관리 가능 | E81: 박창원
B82: 3 | C82: 사무실 환기 | D82: 코로나 19 감염 방지를 위해 하루 3번 환기 실시 | E82: 하주현 | F82: 메일 공유
B83: 4 | C83: 공장동 대회의실 청소 필요 | E83: 정명훈
B84: 5 | C84: 사무동 상비약 구비 | E84: 하주현
B85: 6 | C85: 안전현황게시판의 무재해기록 Daily Update 필요 | E85: 오은별 | F85: 안영운 차장 사고 기준 시행
A86: 2022년
A87: 1월 | B87: 1 | C87: 소방안전관리자 업무 인수인계 | E87: 박창원 | F87: 3월 중 완료 예정 : 박창원 대리 -> 임영규 그룹장 (확인자 : 안경희 공장장)
B88: 2 | C88: 다이아프램 압축기 (고압) 기밀테스트 안전 사항 제안 | D88: 현장 안전 사항 미비 | E88: 품질팀 | F88: 위험성 평가로 대체 (3월 중 시행 예정)
B89: 3 | C89: 안전회의 안전담당인원 (그룹장) 필참 | E89: 안경희
B90: 4 | C90: 분기별 사내 안전 사항 제안 | E90: 안전담당인원 | F90: 제안 일정 1 분기 : 3월 안전회의 2 분기 : 6월 안전회의 3 분기 : 9월 안전회의 4 분기 : 12월 안전회의
B91: 5 | C91: KF80 이상 마스크 착용 | E91: 안전담당인원
B92: 6 | C92: 명절 기간 중 전열기구 관리 | E92: 하주현 | F92: 이메일 / 문자 발송 화장실 히터 : 미약 소방 펌프실 : 유지 계단실 창고 히터 : 유지
A93: 2월 | B93: 1 | C93: 소방 펌프실 배터리 교체 필요 | E93: 박창원 | F93: 2 / 25 (금) 교체 예정
B94: 2 | C94: 안전담당인원 안전사항 건의 (3월 제안 예정) | D94: 지게차, 고소 작업, 용접 작업 시 주의사항, Sling Bend, Piping Cutting 후 2층에서 1층에서의 이동, Cutting Machine 작업 시 유의사항, 그라인더, 기밀시험 시 안전보호대책, 산소 용접 시 폭발 발생 가능성 등 | E94: 안전담당인원
B95: 3 | C95: 안전사고 시 비상 체계, 안전관리규정 등 숙지 | E95: 안전담당인원
B96: 4 | C96: 위험성 평가 시행 | E96: 안경희
B97: 5 | C97: 중량물 취급 시 해당 작업 인원 외 접근 금지 | E97: 하주현 | F97: 메일 공지 예정
B98: 6 | C98: 압력 테스트용 안전 펜스 확인 | D98: 위험성 평가 시행 (외부 컨설턴트) 전까지는 압력 체크용 카메라 설치, 체크리스트 등 추가 조치 필요 | E98: 노종수 안경희 | F98: 노종수 대리 - 다이아프램 압력 테스트 시 안전 담당 안경희 공장장 - 그 외 압력 테스트 시 안전 담당
A99: 3월 | B99: 1 | C99: 안전담당인원 안전사항 건의 | D99: 고소작업대 안전걸이 리프트 및 지게차, 크레인 정기점검 필요 | E99: - | F99: 리프트, 지게차 - 외부 인원 점검 (1회 / 달) 고소작업대 안전센서 - 사내 인원 담당자 지정 (체크리스트 담당자, 안전관리자) 5월 안전회의 업데이트 사항 : 위험성 평가와 병행 준비
B100: =B99+1 -> 2 | C100: 안전담당인원 안전사항 건의 | D100: 사무동 회의실에 소음 방지용 귀마개 비치함 설치 및 관리 | E100: 하주현 | F100: 4월 안전회의 업데이트 사항 : 5월 6일 내 완료
B101: =B100+1 -> 3 | C101: 위험성 평가 및 체크리스트 항목 업데이트 | D101: 대표님 주관 하에 실행하며 (TK 자체 수행), 아래 항목에 대해 담당자 지정 및 항목별 체크리스트 작성 필요 위험성 평가 - 중량물 상∙하차, 기밀테스트 체크리스트 - 크레인, 지게차, 고소차, 드릴 등 | E101: 품질팀 | F101: 5월 안전회의 업데이트 사항 : 위험성 평가와 병행 준비
...

Sheet 안전담당인원
A1: 안전담당인원
A4: 이름 | C4: 담당
A5: 오규일 | B5: 대표이사 | C5: 안전관리총괄책임자
A6: 김권호 | B6: 부사장
A7: 안경희 | B7: 공장장 | C7: 안전관리책임자
A8: 김두수 | B8: 그룹장 | C8: 안전관리감독자
A9: 임영규 | B9: 그룹장 | C9: 소방안전관리자
A10: 안현기 | B10: 사원 | C10: 안전관리자
A11: 노종수 | B11: 대리 | C11: 소화기 점검 담당자 사내 보안 담당자 KGS 안전관리규정(용기 특정 설비용) 체크시트
A12: 박창원 | B12: 대리 | C12: 소방 안전 담당 (담당 인원 교체 예정) 전기 안전 담당
A13: 하주현 | B13: 선임 | C13: 안전보건관리담당 안전회의 주관자

Sheet 월간회의록_서류보관용
A1: 안전회의록 | J1: 결 재 | K1: 담 당 | N1: 검 토 | Q1: 대표이사
A4: 회 의 일 시 | C4: 2025.4.23 (수) 오전 8시 30분
A5: 회 의 장 소 | C5: 공장동 1층 대회의실
A6: 작 성 자 | C6: 하주현 선임
A7: 회 의 내 용 | D7: 회의 내용 | N7: 담당자
D8: 4월 신규 안전 사항
C9: 1. | D9: =월간회의록!C259 -> 안전현수막 설치 예정 | N9: =월간회의록!E259 -> 안현기
C10: 2. | D10: =월간회의록!C260 -> Yard 크레인, 고정장치 적용 | N10: =월간회의록!E260 -> 안경희 (생산팀)
C11: 3. | D11: 전열기구 담당인원 업데이트 (엑셀 파일) | N11: =월간회의록!E261 -> 하주현
A29: 참 석 자 | C29: 직 책 | E29: 서 명 | H29: 참 석 자 | L29: 직 책 | P29: 서 명
A30: 오규일 | C30: 대표 | H30: 임영규 | L30: 그룹장
A31: 김권호 | C31: 부사장 | H31: 박창원 | L31: 대리
A32: 안경희 | C32: 공장장 | H32: 안현기 | L32: 대리
A33: 김두수 | C33: 그룹장 | H33: 하주현 | L33: 선임
A40: 안경희 | C40: 공장장 | H40: 하주현 | L40: 선임
A41: 김두수 | C41: 그룹장 | H41: 안현기 | L41: 사원
A42: 임영규 | C42: 그룹장
A43: 박창원 | C43: 대리

Sheet 정기 점검 사항
A1: 정기점검 사항
A4: No. | B4: 정기점검 사항 | C4: 주기 | D4: 25년 5월 확인사항 | E4: 담당자
A5: 1 | B5: 소화기 안전 점검 (한달에 한번) | C5: 1회 / 1개월 | D5: 5월 확인완료 | E5: 신상균
A6: =A5+1 -> 2 | B6: 소방 관련 센서 점검 | C6: 1회 / 1년 | E6: 임영규
A7: =A6+1 -> 3 | B7: 오폐수 1주일에 1번씩 확인 | C7: 1회 / 1주 3회 / 매달 | D7: 확인 완료 | E7: 정석호
A8: =A7+1 -> 4 | B8: 전기 관련 (Panel) 전기 점검 (외주 점검) | C8: 1회 / 1개월 | D8: 확인 완료 | E8: 박창원
A9: =A8+1 -> 5 | B9: 전기 관련 (Panel) 전기 점검 | C9: 1회 / 3년 | D9: 점검 완료 25년도 6월 이내 예정 | E9: 박창원
A10: =A9+1 -> 6 | B10: 건강검진 | C10: 1회 / 1년 | D10: 22년도 확인 완료 23년도 확인 완료 24년도 확인 완료 25년 진행 예정 | E10: 하주현
A11: =A10+1 -> 7 | B11: 인터넷 교육 | C11: 1회 / 년 | D11: 25년 진행 예정 | E11: 하주현
A12: =A11+1 -> 8 | B12: 5, 20, 50 ton 호이스트 정기 점검 | C12: 1회 / 2년 | D12: 22년 6월 완료 24년 6월 완료 26년 진행 예정 | E12: 안경희
A13: =A12+1 -> 9 | B13: SUS작업장 호이스트 정기 점검 (23년도 신규설치) | C13: 1회 / 2년 | D13: 23년도 완료 25년 진행 예정 | E13: 안경희
A14: =A13+1 -> 10 | B14: 작업 환경 측정 (Vendor) | C14: 1회 / 6개월 | D14: 21년 2회 점검 완료 22년 2회 점검 완료 23년 상반기 점검 완료 (6월 13일 완료) 23년 하반기 점검 완료 (12월 15일 완료) 24년 상반기 점검 완료 (6월 17일 완료) 24년 하반기 점검 완료 25년 상반기 점검 예정 | E14: 박창원
A15: =A14+1 -> 11 | B15: 위험성 평가 (자체 점검) | C15: 1회 / 1년 | D15: 24년 3월 완료 25년 진행 예정 | E15: 안현기
A16: =A15+1 -> 12 | B16: 위험성 평가 사업주 교육 | C16: 1회 / 3년 | D16: 22년도 완료 23년도 완료 (재인증 건) | E16: 오규일
A17: =A16+1 -> 13 | B17: 위험성 평가 개선 대책 수립 | C17: 1회 / 1년 | D17: 25년 진행 예정 | E17: 안경희
A18: =A17+1 -> 14 | B18: 안전관리책임자 교육 | C18: 1회 / 2년 | D18: 22년도 완료 24년 12월 완료 | E18: 안경희
... A27: =A26+1 -> 23 | B27: 방역 | C27: 10회 / 1년 | D27: 매월 (4~10월) 진행 예정 | E27: 안경희

Sheet 전열기구 담당인원
C1: 전열기구 담당인원
B4: 공장동 담당자 | E4: (품질팀, 구매팀, 생산지원팀)
B5: 장소 | D5: 품명 | E5: 담당자
B6: 사무실 | D6: 보일러 | E6: 김지훈
D7: 에어컨
B8: 여자 화장실 | D8: 히터 | E8: 송보민 (배민지)
B9: 남자 화장실 | D9: 히터 | E9: 김지훈
B10: 소방 펌프실 | D10: 히터 | E10: 김지훈
B12: 사무동 1 담당자 | E12: (경영지원팀, 영업팀, AMT)
B13: 장소 | D13: 품명 | E13: 담당자
B14: 3층 | C14: 남자화장실 | D14: 히터 | E14: 송유현
C15: 사무실 | D15: 보일러 | E15: 이예린
D16: 에어컨
B17: 2층 | C17: 남자화장실 | D17: 히터 | E17: 송유현
C18: 사무실 | D18: 보일러 | E18: 송유현
D19: 에어컨
B20: 1층 | C20: 남자화장실 | D20: 히터 | E20: 송유현
C21: 여자화장실 | D21: 히터 | E21: 문소희
C22: 계단 밑 창고 | D22: 히터 | E22: 문소희
C23: 대회의실 | D23: 보일러 | E23: 문소희
B25: 사무동 2 담당자 | E25: (엔지니어링팀)
B26: 장소 | D26: 품명 | E26: 담당자
B27: 사무실 | D27: 보일러 | E27: 김재율
D28: 에어컨
B29: 여자화장실 | D29: 히터 | E29: 서현서
B30: 남자화장실 | D30: 히터 | E30: 김재율
B32: NOTE
B33: * 개인 전열기는 사용 불가합니다.
B34: * 각 담당자분들께서는 출/퇴근 시 담당전열기구 상태 확인 바랍니다.
